Workbook

Sheet 調査様式１
I1: （別添）
A2: 令和8年に県内市町村で開催される成人式等一覧 令和７年１１月１日現在
A4: 市町村名 | B4: 対象者数 | C4: 参加対象者の 生年月日の範囲 | D4: 開催日時 | E4: 開 催 場 所 | F4: 行 事 内 容 | G4: 担当部署 | H4: （担当部署連絡先） | I4: 備 考
A6: 和歌山市 | B6: 2985 | C6: H17.4.2～H18.4.１ | D6: R8 1.11 14:30～ | E6: 和歌山県民文化会館 | F6: 式典、和歌山県立和歌山商業高校による祝いの演奏 | G6: 生涯学習課 | H6: 073-435-1193 | I6: はたちのつどい実行委員会主催
A7: 海南市 | B7: 377 | C7: H17.4.2～H18.4.1 | D7: R8.1.11 13：30～ | E7: 海南市民交流センター ふれあいホール | F7: 式典､アトラクション、記念撮影 | G7: 生涯学習課 | H7: 073-492-3349
A8: 橋本市 | B8: 547 | C8: H17.4.2～H18.4.1 | D8: R8.1.11 13：30～ | E8: 県立橋本体育館メインアリーナ | F8: 式典､アトラクション | G8: 生涯学習課 | H8: 0736-33-6112 | I8: 橋本市・橋本市教育委員会、橋本市２０歳のつどい実行委員会主催
A9: 有田市 | B9: 248 | C9: H17.4.2～H18.4.1 | D9: R8.1.11 13：30～ | E9: 有田市民会館 | F9: オープニングアトラクション、式典、スライドショー、記念撮影 | G9: 生涯学習課 | H9: 0737-22-3761
A10: 御坊市 | B10: 194 | C10: H17.4.2～H18.4.1 | D10: R8 1.11 11:00～ | E10: 御坊市民文化会館 | F10: 式典、記念撮影 | G10: 教育課 | H10: 0738-23-5525
A11: 田辺市 | B11: 620 | C11: H17.4.2～H18.4.1 | D11: R8 1.11 11:00～ | E11: 紀南文化会館 | F11: 式典、意見発表、応援メッセージビデオ、記念撮影 | G11: 生涯学習課 | H11: 0739-26-4908 | I11: 田辺市・田辺市教育委員会主催
A12: 新宮市 | B12: 199 | C12: H17.4.2～H18.4.1 | D12: R8 1.4 14:00～ | E12: 「新宮市文化複合施設」丹鶴ホール | F12: 式典､公民館メッセージ、記念撮影など | G12: 生涯学習課 | H12: 0735-23-3367
A13: 紀の川市 | B13: 538 | C13: H17.4.2～H18.4.1 | D13: R8 1.11 10:30～ | E13: 粉河ふるさとセンター 大ホール | F13: 式典､実行委員会イベント（スライドショー上映、芸能） | G13: 生涯学習課 | H13: 0736‐79‐3907 | I13: 実行委員会主催
A14: 岩出市 | B14: 630 | C14: H17.4.2～H18.4.1 | D14: R8 1.12 10:00～ | E14: 岩出市立市民総合体育館 | F14: 式典､記念イベント | G14: 生涯学習課 | H14: 0736‐62‐2141
A15: 市部計 | B15: =SUM(B6:B14) -> 6338
A16: 紀美野町 | B16: 51 | C16: H17.4.2～H18.4.1 | D16: R8 1.11 13:30～ | E16: 紀美野町文化センター | F16: 式典､担任からのメッセージビデオ上映、記念写真、会場玄関先アート装飾 | G16: 教育課 | H16: 073-489-5910
A17: 海草郡計 | B17: =SUM(B16) -> 51
A18: かつらぎ町 | B18: 141 | C18: H17.4.2～H18.4.1 | D18: R8.1.11 14:00～ | E18: かつらぎ総合文化会館 | F18: 式典、メッセージビデオ上映、記念撮影、激励会 | G18: こども未来課 | H18: 0736-22-0303 | I18: かつらぎ町、かつらぎ町教育委員会主催
A19: 九度山町 | B19: 41 | C19: H17.4.2～H18.4.1 | D19: R8.1.11 13:00～ | E19: 九度山町ふるさとセンター | F19: 式典、フリートーク、記念撮影 | G19: 総務課 | H19: 0736-54-2019 | I19: 九度山町役場主催
A20: 高野町 | B20: 14 | C20: H17.4.2～H18.4.1 | D20: R8.1.10 13:30～ | E20: 総本山金剛峯寺 新別殿 | F20: 式典、記念撮影 | G20: 教育委員会 | H20: 0736-56-3050 | I20: 実行委員会形式で開催
A21: 伊都郡計 | B21: =SUM(B18:B20) -> 196
A22: 市町村名 | B22: 対象者数 | C22: 参加対象者の 生年月日の範囲 | D22: 開催日時 | E22: 開 催 場 所 | F22: 行 事 内 容 | G22: 担当部署 | H22: （担当部署連絡先） | I22: 備 考
A24: 湯浅町 | B24: 124 | C24: H17.4.2～H18.4.1 | D24: R8.1.11 13:30～ | E24: 湯浅町役場３階 なぎホール | F24: 式典､アトラクション、記念撮影 | G24: 教育委員会 | H24: 0737ｰ63-1111
A25: 広川町 | B25: 59 | C25: H17.4.2～H18.4.1 | D25: R8 1.11 10:30～ | E25: 広川町民体育館 | F25: 式典､アトラクション、記念撮影 | G25: 総務課 | H25: 0737-23-7732
A26: 有田川町 | B26: 208 | C26: H17.4.2～H18.4.1 | D26: R8 1.11 13:00～ | E26: 有田川町金屋文化保健センター | F26: 式典､記念イベント、記念撮影 | G26: 社会教育課 | H26: 0737-22-4513 | I26: 企画・運営 有田川町二十歳の集い実行委員会
A27: 有田郡計 | B27: =SUM(B24:B26) -> 391
A28: 美浜町 | B28: 56 | C28: H17.4.2～H18.4.1 | D28: R8.1.4 10:30～ | E28: 美浜町中央公民館 | F28: 式典､アトラクション、記念撮影 | G28: 教育課 | H28: 0738-22-7309
A29: 日高町 | B29: 95 | C29: H17.4.2～H18.4.1 | D29: R8.1.4 10：00～ | E29: 日高町中央公民館２階大会議室 | F29: 式典､アトラクション、記念撮影 | G29: 教育委員会 | H29: 0738-63-3811
A30: 由良町 | B30: 36 | C30: H17.4.2～H18.4.1 | D30: R8 1.11 10:00～ | E30: 由良町中央公民館 | F30: 式典､メッセージ動画、コンサート | G30: 教育課 | H30: 0738-65-1800 | I30: 由良町主催 教育委員会運営
A31: 印南町 | B31: 80 | C31: H17.4.2～H18.4.1 | D31: R8 1.11 13:30～ | E31: 印南町体育センター | F31: 式典､アトラクション、記念撮影 | G31: 教育委員会 | H31: 0738-42-1700 | I31: 印南町主催 後半のアトラクションについては成人式実行委員会による主催
A32: みなべ町 | B32: 146 | C32: H17.4.2～H18.4.1 | D32: R8 1.4 13:00～ | E32: ふれ愛センター | F32: 記念撮影、式典、交流会 | G32: 教育学習課 | H32: 0739-74-3134 | I32: 対象者の中から実行委員を募集し、交流会の内容を企画しています。
A33: 日高川町 | B33: 90 | C33: H17.4.2～H18.4.1 | D33: R8 1.11 10:30～ | E33: 日高川交流センター | F33: 式典、記念撮影、バルーン・リリース | G33: 教育委員会 | H33: 0738-22-8816 | I33: 日高川町主催、教育委員会運営
A34: 日高郡計 | B34: =SUM(B28:B33) -> 503
A35: 白浜町 | B35: 219 | C35: H17.4.2～H18.4.1 | D35: R8 1.4 15:30～ | E35: アドベンチャーワールド | F35: 式典､ビデオレター上映、サプライズショー、記念撮影 | G35: 生涯学習係 | H35: 0739-43-5830
A36: 上富田町 | B36: 149 | C36: H17.4.2～H18.4.1 | D36: R8 1.3 10:30～ | E36: 上富田文化会館 | F36: 式典、記念撮影 | G36: 教育委員会 | H36: 0739-47-5930
A37: すさみ町 | B37: 18 | C37: H17.4.2～H18.4.1 | D37: R8 1.3 10:30～ | E37: すさみ町総合センター | F37: 式典､記念撮影、スライドショー | G37: 社会教育課 | H37: 0739-55-3037 | I37: すさみ町主催
A38: 西牟婁郡計 | B38: =SUM(B35:B37) -> 386
A39: 市町村名 | B39: 対象者数 | C39: 参加対象者の 生年月日の範囲 | D39: 開催日時 | E39: 開 催 場 所 | F39: 行 事 内 容 | G39: 担当部署 | H39: （担当部署連絡先） | I39: 備 考
A41: 那智勝浦町 | B41: 132 | C41: H17.4.2～H18.4.1 | D41: R8 1.3 13:00～ | E41: 那智勝浦町体育文化会館 | F41: 式典､アトラクション、記念撮影 | G41: 生涯学習課 | H41: 0735-52-4686
A42: 太地町 | B42: 24 | C42: H18.4.2～H19.4.1 | D42: R8 8.15 10:00～ | E42: ホリスティックスペースジャパン（予定） | F42: 式典､記念撮影、懇談会 | G42: 教育委員会 | H42: 0735-59-2335 | I42: 太地町教育委員会主催
A43: 古座川町 | B43: 13 | C43: H18.4.2～H19.4.1 | D43: R8 8.15 10:00～ | E43: 中央公民館 | F43: 式典､アトラクション、記念撮影 | G43: 教育課 | H43: 0735-72-3344 | I43: 公民館主催
A44: 北山村 | B44: 3 | C44: H17.4.2～H18.4.1 | D44: R8 1.3 10:00～ | E44: 村民会館 | F44: 式典、記念撮影、茶話会 | G44: 教育委員会 | H44: 0735-49-8010
...

Sheet 対前年増減
A2: 市町村別成人式等対象者数増減
E3: （H17.4.2～H18.4.1生まれ）
E4: ※ただし、太地町、古座川町はH18.4.2～H19.4.1生まれ
A5: 市町村名 | B5: R８年対象者数 | C5: R７年対象者数 | D5: 増減 | E5: 備考
A7: 和歌山市 | B7: =調査様式１!B6 -> 2985 | C7: 3148 | D7: =B7-C7 -> -163
A8: 海南市 | B8: =調査様式１!B7 -> 377 | C8: 387 | D8: =B8-C8 -> -10
A9: 橋本市 | B9: =調査様式１!B8 -> 547 | C9: 508 | D9: =B9-C9 -> 39
A10: 有田市 | B10: =調査様式１!B9 -> 248 | C10: 234 | D10: =B10-C10 -> 14
A11: 御坊市 | B11: =調査様式１!B10 -> 194 | C11: 217 | D11: =B11-C11 -> -23
A12: 田辺市 | B12: =調査様式１!B11 -> 620 | C12: 590 | D12: =B12-C12 -> 30
A13: 新宮市 | B13: =調査様式１!B12 -> 199 | C13: 203 | D13: =B13-C13 -> -4
A14: 紀の川市 | B14: =調査様式１!B13 -> 538 | C14: 507 | D14: =B14-C14 -> 31
A15: 岩出市 | B15: =調査様式１!B14 -> 630 | C15: 656 | D15: =B15-C15 -> -26
A16: 市部計 | B16: =調査様式１!B15 -> 6338 | C16: 6450 | D16: =B16-C16 -> -112
A17: 紀美野町 | B17: =調査様式１!B16 -> 51 | C17: 41 | D17: =B17-C17 -> 10
A18: 海草郡計 | B18: =調査様式１!B17 -> 51 | C18: 41 | D18: =B18-C18 -> 10
... A22: 伊都郡計 | B22: =調査様式１!B21 -> 196 | C22: 168 | D22: =B22-C22 -> 28
A23: 湯浅町 | B23: =調査様式１!B24 -> 124 | C23: 98 | D23: =B23-C23 -> 26
A24: 広川町 | B24: =調査様式１!B25 -> 59 | C24: 54 | D24: =B24-C24 -> 5
A25: 有田川町 | B25: =調査様式１!B26 -> 208 | C25: 253 | D25: =B25-C25 -> -45
A26: 有田郡計 | B26: =調査様式１!B27 -> 391 | C26: 405 | D26: =B26-C26 -> -14
A27: 美浜町 | B27: =調査様式１!B28 -> 56 | C27: 66 | D27: =B27-C27 -> -10
A28: 日高町 | B28: =調査様式１!B29 -> 95 | C28: 93 | D28: =B28-C28 -> 2
A29: 由良町 | B29: =調査様式１!B30 -> 36 | C29: 48 | D29: =B29-C29 -> -12
A30: 印南町 | B30: =調査様式１!B31 -> 80 | C30: 81 | D30: =B30-C30 -> -1
A31: みなべ町 | B31: =調査様式１!B32 -> 146 | C31: 137 | D31: =B31-C31 -> 9
A32: 日高川町 | B32: =調査様式１!B33 -> 90 | C32: 109 | D32: =B32-C32 -> -19
A33: 日高郡計 | B33: =調査様式１!B34 -> 503 | C33: 534 | D33: =B33-C33 -> -31
A34: 白浜町 | B34: =調査様式１!B35 -> 219 | C34: 194 | D34: =B34-C34 -> 25
... A37: 西牟婁郡計 | B37: =調査様式１!B38 -> 386 | C37: 379 | D37: =B37-C37 -> 7
A38: 那智勝浦町 | B38: =調査様式１!B41 -> 132 | C38: 127 | D38: =B38-C38 -> 5
A39: 太地町 | B39: =調査様式１!B42 -> 24 | C39: 29 | D39: =B39-C39 -> -5
A40: 古座川町 | B40: =調査様式１!B43 -> 13 | C40: 11 | D40: =B40-C40 -> 2
A41: 北山村 | B41: =調査様式１!B44 -> 3 | C41: 0 | D41: =B41-C41 -> 3
A42: 串本町 | B42: =調査様式１!B45 -> 97 | C42: 100 | D42: =B42-C42 -> -3
A43: 東牟婁郡計 | B43: =調査様式１!B46 -> 269 | C43: 267 | D43: =B43-C43 -> 2
A44: 県計 | B44: =B16+B18+B22+B26+B33+B37+B43 -> 8134 | C44: =C16+C18+C22+C26+C33+C37+C43 -> 8244 | D44: =B44-C44 -> -110
A45: ※男女別人数は、人権等に配慮し、今回から記載しておりません。
